BEGIN:VCALENDAR
VERSION:2.0
PRODID:icalendar-ruby
CALSCALE:GREGORIAN
METHOD:PUBLISH
BEGIN:VEVENT
DTSTAMP:20260421T153217Z
UID:90-1125121@barrheadbethel.ca
DTSTART:20260919T013000Z
DTEND:20260919T043000Z
CLASS:PUBLIC
CREATED:20260421T073001
DESCRIPTION:Bethel Youth - Every Friday Night - 7:30-10:30pm\n \nFor Youth
  in grades 7-12\nFridays 7:30-10:30pm \nMeets at the church most fridays 
 (check the Bethel Youth Facebook group or  follow on Instagram to see wha
 t they are doing each week!)
LAST-MODIFIED:20260421T073001
LOCATION:Bethel Pentecostal Church
SUMMARY:Bethel YOUTH
URL;VALUE=URI:https://www.barrheadbethel.ca/events/bethel-youth/2026-09-18
ATTACH;FILENAME=BETHEL YOUTH.jpg;FMTTYPE=image/jpeg:https://dq5pwpg1q8ru0.c
 loudfront.net/2023/09/19/12/38/34/874f7813-4a19-4cbd-b89f-978b8fd033d6/BET
 HEL%20YOUTH.jpg
END:VEVENT
END:VCALENDAR
