BEGIN:VCALENDAR
VERSION:2.0
PRODID:icalendar-ruby
CALSCALE:GREGORIAN
METHOD:PUBLISH
BEGIN:VEVENT
DTSTAMP:20260423T114536Z
UID:178-1127213@barrheadbethel.ca
DTSTART:20260522T233000Z
DTEND:20260523T020000Z
CLASS:PUBLIC
CREATED:20260421T142004
DESCRIPTION:Ok guys\, this is for us!\nJoin us here at the church for some 
 pizza\, fellowship and an online event designed to help us grow in our fai
 th as men!\nYou won't want to miss this!
LAST-MODIFIED:20260421T142004
LOCATION:BETHEL Pentecostal Church - Barrhead\, AB
SUMMARY:Impactus: GUYS NIGHT
URL;VALUE=URI:https://www.barrheadbethel.ca/events/impactus-guys-night/2026
 -05-22
ATTACH;FILENAME="Powerful Teaching, Worship, Workshops, and Fellowship! An 
 online event designed to help you grow in your faith as a man..jpg";FMTTYP
 E=image/jpeg:https://dq5pwpg1q8ru0.cloudfront.net/2026/04/21/20/20/04/2640
 8486-7c3d-47c9-a681-8296dbd9a7fc/Powerful%20Teaching,%20Worship,%20Worksho
 ps,%20and%20Fellowship!%20An%20online%20event%20designed%20to%20help%20you
 %20grow%20in%20your%20faith%20as%20a%20man..jpg
END:VEVENT
END:VCALENDAR
