BEGIN:VCALENDAR
VERSION:2.0
PRODID:icalendar-ruby
CALSCALE:GREGORIAN
METHOD:PUBLISH
BEGIN:VEVENT
DTSTAMP:20260420T120504Z
UID:92-1119634@barrheadbethel.ca
DTSTART:20261007T010000Z
DTEND:20261007T030000Z
CLASS:PUBLIC
CREATED:20260420T045311
DESCRIPTION:It's Back!  (And will run from Fall through until Spring!)\nSt
 arting back up Tuesday\, September 30th at 7pm\nMen's Floor Hockey- every 
 Tuesday evening at 7pm in the Bethel Gym!\nBring your gear\, break a sweat
  and have a great time! \;)\n \n(*Please Contact Aaron Lee for more detai
 ls)
LAST-MODIFIED:20260420T045311
LOCATION:Bethel Pentecostal Church
SUMMARY:Men's Floor Hockey
URL;VALUE=URI:https://www.barrheadbethel.ca/events/mens-floor-hockey/2026-1
 0-06
ATTACH;FILENAME=Men‘s Floor Hockey (1).jpg;FMTTYPE=image/jpeg:https://dq5
 pwpg1q8ru0.cloudfront.net/2023/09/11/11/04/13/bb9d2937-d384-4871-a190-0643
 f243f645/Men%E2%80%98s%20Floor%20Hockey%20(1).jpg
END:VEVENT
END:VCALENDAR
