BEGIN:VCALENDAR
VERSION:2.0
PRODID:icalendar-ruby
CALSCALE:GREGORIAN
METHOD:PUBLISH
BEGIN:VEVENT
DTSTAMP:20260424T110802Z
UID:156-1139217@barrheadbethel.ca
DTSTART:20260917T140000Z
DTEND:20260917T150000Z
CLASS:PUBLIC
CREATED:20260424T050113
DESCRIPTION:Thursday mornings from 8-9am at Andrew Breitkreitz's Shop. (Mee
 t at the church at 7:30am to get a ride).\nJoin us to pray and connect.
LAST-MODIFIED:20260424T050113
LOCATION:
SUMMARY:Work Bench Prayer & Share
URL;VALUE=URI:https://www.barrheadbethel.ca/events/work-bench-prayer-share/
 2026-09-17
ATTACH;FILENAME=prayer and share.jpg;FMTTYPE=image/jpeg:https://dq5pwpg1q8r
 u0.cloudfront.net/2026/01/20/15/52/11/f8df6f7d-5488-4002-9b59-27c6a699f4f5
 /prayer%20and%20share.jpg
END:VEVENT
END:VCALENDAR
